OziExplorer Map Data File Version 2.2
Zenta 15.png
C:\Users\phz\Documents\_phz_docs\Events\Events 2011\Zenta 2011\Map\Zenta_2011.ozfx3
1 ,Map Code,
WGS 84,WGS 84, 0.0000, 0.0000,WGS 84
Reserved 1
Reserved 2
Magnetic Variation,,,E
Map Projection,Latitude/Longitude,PolyCal,No,AutoCalOnly,No,BSBUseWPX,No
Point01,xy, 0, 0,in, deg, 46, 5.30832,N, 19, 43.8867,E, grid, , , ,N
Point02,xy,12031, 0,in, deg, 46, 5.30832,N, 20, 14.8656,E, grid, , , ,N
Point03,xy,12031,12031,in, deg, 45,43.75332,N, 20, 14.8656,E, grid, , , ,N
Point04,xy, 0,12031,in, deg, 45,43.75332,N, 19, 43.8867,E, grid, , , ,N
Point05,xy, , ,in, deg, , ,grid, , ,W, grid, , , ,N
Point06,xy, , ,in, deg, , ,grid, , ,W, grid, , , ,N
Point07,xy, , ,in, deg, , ,grid, , ,W, grid, , , ,N
Point08,xy, , ,in, deg, , ,grid, , ,W, grid, , , ,N
Point09,xy, , ,in, deg, , ,grid, , ,W, grid, , , ,N
Point10,xy, , ,in, deg, , ,grid, , ,W, grid, , , ,N
Point11,xy, , ,in, deg, , ,grid, , ,W, grid, , , ,N
Point12,xy, , ,in, deg, , ,grid, , ,W, grid, , , ,N
Point13,xy, , ,in, deg, , ,grid, , ,W, grid, , , ,N
Point14,xy, , ,in, deg, , ,grid, , ,W, grid, , , ,N
Point15,xy, , ,in, deg, , ,grid, , ,W, grid, , , ,N
Point16,xy, , ,in, deg, , ,grid, , ,W, grid, , , ,N
Point17,xy, , ,in, deg, , ,grid, , ,W, grid, , , ,N
Point18,xy, , ,in, deg, , ,grid, , ,W, grid, , , ,N
Point19,xy, , ,in, deg, , ,grid, , ,W, grid, , , ,N
Point20,xy, , ,in, deg, , ,grid, , ,W, grid, , , ,N
Point21,xy, , ,in, deg, , ,grid, , ,W, grid, , , ,N
Point22,xy, , ,in, deg, , ,grid, , ,W, grid, , , ,N
Point23,xy, , ,in, deg, , ,grid, , ,W, grid, , , ,N
Point24,xy, , ,in, deg, , ,grid, , ,W, grid, , , ,N
Point25,xy, , ,in, deg, , ,grid, , ,W, grid, , , ,N
Point26,xy, , ,in, deg, , ,grid, , ,W, grid, , , ,N
Point27,xy, , ,in, deg, , ,grid, , ,W, grid, , , ,N
Point28,xy, , ,in, deg, , ,grid, , ,W, grid, , , ,N
Point29,xy, , ,in, deg, , ,grid, , ,W, grid, , , ,N
Point30,xy, , ,in, deg, , ,grid, , ,W, grid, , , ,N
Projection Setup,,,,,,,,,,
Map Feature = MF ; Map Comment = MC These follow if they exist
Track File = TF These follow if they exist
Moving Map Parameters = MM? These follow if they exist
MM0,Yes
MMPNUM,4
MMPXY,1,0,0
MMPXY,2,12031,0
MMPXY,3,12031,12031
MMPXY,4,0,12031
MMPLL,1, 19.731445, 46.088472
MMPLL,2, 20.247760, 46.088472
MMPLL,3, 20.247760, 45.729222
MMPLL,4, 19.731445, 45.729222
MM1B,3.329591
Other Grid Setup
GRGRID,Yes,1 Km,Yes,8388736,255,1 Km,0,16777215,8,0,Yes,No,No,x
MOP,Map Open Position,0,0
IWH,Map Image Width/Height,12032,12032
